BEGIN:VCALENDAR
VERSION:2.0
PRODID:-//Naturistföreningen Eos - ECPv6.15.20//NONSGML v1.0//EN
CALSCALE:GREGORIAN
METHOD:PUBLISH
X-ORIGINAL-URL:https://nfeos.se
X-WR-CALDESC:Händelser för Naturistföreningen Eos
REFRESH-INTERVAL;VALUE=DURATION:PT1H
X-Robots-Tag:noindex
X-PUBLISHED-TTL:PT1H
BEGIN:VTIMEZONE
TZID:Europe/Stockholm
BEGIN:DAYLIGHT
TZOFFSETFROM:+0100
TZOFFSETTO:+0200
TZNAME:CEST
DTSTART:20240331T010000
END:DAYLIGHT
BEGIN:STANDARD
TZOFFSETFROM:+0200
TZOFFSETTO:+0100
TZNAME:CET
DTSTART:20241027T010000
END:STANDARD
BEGIN:DAYLIGHT
TZOFFSETFROM:+0100
TZOFFSETTO:+0200
TZNAME:CEST
DTSTART:20250330T010000
END:DAYLIGHT
BEGIN:STANDARD
TZOFFSETFROM:+0200
TZOFFSETTO:+0100
TZNAME:CET
DTSTART:20251026T010000
END:STANDARD
BEGIN:DAYLIGHT
TZOFFSETFROM:+0100
TZOFFSETTO:+0200
TZNAME:CEST
DTSTART:20260329T010000
END:DAYLIGHT
BEGIN:STANDARD
TZOFFSETFROM:+0200
TZOFFSETTO:+0100
TZNAME:CET
DTSTART:20261025T010000
END:STANDARD
END:VTIMEZONE
BEGIN:VEVENT
DTSTART;TZID=Europe/Stockholm:20250802T170000
DTEND;TZID=Europe/Stockholm:20250802T210000
DTSTAMP:20260423T133645
CREATED:20250722T080556Z
LAST-MODIFIED:20250722T080556Z
UID:505-1754154000-1754168400@nfeos.se
SUMMARY:Bastu på Ågesta
DESCRIPTION:
URL:https://nfeos.se/event/bastu-pa-agesta-49/
END:VEVENT
BEGIN:VEVENT
DTSTART;TZID=Europe/Stockholm:20250804T200000
DTEND;TZID=Europe/Stockholm:20250804T230000
DTSTAMP:20260423T133645
CREATED:20250731T104355Z
LAST-MODIFIED:20250731T104355Z
UID:517-1754337600-1754348400@nfeos.se
SUMMARY:Bastu på Ågesta - aufguss
DESCRIPTION:Vi välkomnar Er till en aufguss-kväll på Ågesta med väldoftande eteriska oljor och rikligt med vattenpåhällning. Personer som är känsliga för starka dofter eller ånga avråds från att delta. \n  \nFörsta sessionen börjar cirka 18.30\, eller när tillräckligt många har anlänt. Insläpp sker inte under pågående session. Musik kan spelas av aufguss-mästarna under sessionerna\, och om inget annat anges så föredrar vi tystnad under sessionerna. \n  \nVi brukar informera om nästa session en 5-10 minuter innan den börjar\, då är det ett bra tillfälle att se till att Du druckit tillräckigt mycket vatten och att Du är tillräckligt nedkyld innan du går in i bastun igen. \nVid många deltagare turas vi om att vara i bastun\, detta gäller även vid dåligt väder så kom ihåg att ta med dig Din handduk när du lämnar bastun efter en session och att Du är inte garanterad en plats till nästa session. \n  \nVälkomna! \n  \n/ Aufguss-mästarna på Ågesta\, Anton och Cecilia
URL:https://nfeos.se/event/bastu-pa-agesta-aufguss-5/
END:VEVENT
BEGIN:VEVENT
DTSTART;TZID=Europe/Stockholm:20250806T180000
DTEND;TZID=Europe/Stockholm:20250806T183000
DTSTAMP:20260423T133645
CREATED:20250604T122251Z
LAST-MODIFIED:20250604T122251Z
UID:389-1754503200-1754505000@nfeos.se
SUMMARY:Nakengympa på Ågesta
DESCRIPTION:
URL:https://nfeos.se/event/nakengympa-pa-agesta-9/
END:VEVENT
BEGIN:VEVENT
DTSTART;TZID=Europe/Stockholm:20250806T180000
DTEND;TZID=Europe/Stockholm:20250806T210000
DTSTAMP:20260423T133645
CREATED:20250610T111930Z
LAST-MODIFIED:20250610T111930Z
UID:417-1754503200-1754514000@nfeos.se
SUMMARY:Grillkväll på Ågesta
DESCRIPTION:Vid bra väder tänder vi grillen vid 16-tiden. Var och en får ta med sig det man önska grilla.
URL:https://nfeos.se/event/grillkvall-pa-agesta-10/
END:VEVENT
BEGIN:VEVENT
DTSTART;TZID=Europe/Stockholm:20250806T183000
DTEND;TZID=Europe/Stockholm:20250806T230000
DTSTAMP:20260423T133645
CREATED:20250722T071426Z
LAST-MODIFIED:20250722T071426Z
UID:491-1754505000-1754521200@nfeos.se
SUMMARY:Bastu på Ågesta
DESCRIPTION:
URL:https://nfeos.se/event/bastu-pa-agesta-26/
END:VEVENT
BEGIN:VEVENT
DTSTART;TZID=Europe/Stockholm:20250809T170000
DTEND;TZID=Europe/Stockholm:20250809T230000
DTSTAMP:20260423T133645
CREATED:20250722T071655Z
LAST-MODIFIED:20250722T134213Z
UID:497-1754758800-1754780400@nfeos.se
SUMMARY:Bastu på Ågesta
DESCRIPTION:
URL:https://nfeos.se/event/bastu-pa-agesta-46/
END:VEVENT
BEGIN:VEVENT
DTSTART;TZID=Europe/Stockholm:20250809T183000
DTEND;TZID=Europe/Stockholm:20250809T220000
DTSTAMP:20260423T133645
CREATED:20250609T083208Z
LAST-MODIFIED:20250609T083208Z
UID:397-1754764200-1754776800@nfeos.se
SUMMARY:Jubileumsfest på Ågesta
DESCRIPTION:Jubileumsfest på Ågestabadet den 9 augusti \nUnder eftermiddagen laddar vi upp inför festen. Några hålltider: \n\nBastun öppnar som vanligt kl 15.00\, men kommer att hålla öppet längre under kvällen till ca 21.00.\nGrillarna kommer att vara tända från kl 16.30 och hållas i gång under kvällen. Ta med egen mat att grilla så ordnar vi långbord med lite festlig inramning där vi kan äta och umgås tillsammans.\nKl 19.00 sångunderhållning med vår egen trubadur Lukas.\n\nVi kommer att behöva många frivilliga som kan hjälpa till med det praktiska kring festen. Om du kan tänka dig att göra en insats för att vi ska få en riktigt lyckad jubileumsfest är du välkommen att höra av dig till info@nfeos.se
URL:https://nfeos.se/event/jubileumsfest-pa-agesta/
END:VEVENT
BEGIN:VEVENT
DTSTART;TZID=Europe/Stockholm:20250812T200000
DTEND;TZID=Europe/Stockholm:20250812T220000
DTSTAMP:20260423T133645
CREATED:20250717T084303Z
LAST-MODIFIED:20250717T084303Z
UID:475-1755028800-1755036000@nfeos.se
SUMMARY:QTS bastu på Ågesta
DESCRIPTION:Queer Trans Sauna på Ågesta naturistbad! \n  \nVilka är välkomna i bastun under QTS?: \n\nQueers\, transpersoner och queera transpersoner trötta på textilbad.\nDu och den/dom QTs du bjuder med har en grundförståelse för begrepp som: queer\, trans\, naturist\, samtycke och NPFdiagnoser.\n\n•Du som besöker bastun omfamnar föreningens inkluderande inställning till alla människor. Vi förväntar oss att du är respektfull och hänsynstagande mot andra besökare och respekterar föreningens valda temabastu.
URL:https://nfeos.se/event/qts-bastu-pa-agesta/
END:VEVENT
BEGIN:VEVENT
DTSTART;TZID=Europe/Stockholm:20250813T180000
DTEND;TZID=Europe/Stockholm:20250813T183000
DTSTAMP:20260423T133645
CREATED:20250724T134311Z
LAST-MODIFIED:20250724T134311Z
UID:507-1755108000-1755109800@nfeos.se
SUMMARY:Nakengympa på Ågesta
DESCRIPTION:
URL:https://nfeos.se/event/nakengympa-pa-agesta-10/
END:VEVENT
BEGIN:VEVENT
DTSTART;TZID=Europe/Stockholm:20250813T180000
DTEND;TZID=Europe/Stockholm:20250813T210000
DTSTAMP:20260423T133645
CREATED:20250610T112008Z
LAST-MODIFIED:20250610T112008Z
UID:419-1755108000-1755118800@nfeos.se
SUMMARY:Grillkväll på Ågesta
DESCRIPTION:Vid bra väder tänder vi grillen vid 16-tiden. Var och en får ta med sig det man önska grilla.
URL:https://nfeos.se/event/grillkvall-pa-agesta-11/
END:VEVENT
BEGIN:VEVENT
DTSTART;TZID=Europe/Stockholm:20250813T183000
DTEND;TZID=Europe/Stockholm:20250813T230000
DTSTAMP:20260423T133645
CREATED:20250722T071513Z
LAST-MODIFIED:20250722T071513Z
UID:493-1755109800-1755126000@nfeos.se
SUMMARY:Bastu på Ågesta
DESCRIPTION:
URL:https://nfeos.se/event/bastu-pa-agesta-44/
END:VEVENT
BEGIN:VEVENT
DTSTART;TZID=Europe/Stockholm:20250816T170000
DTEND;TZID=Europe/Stockholm:20250816T210000
DTSTAMP:20260423T133645
CREATED:20250722T071728Z
LAST-MODIFIED:20250807T182228Z
UID:499-1755363600-1755378000@nfeos.se
SUMMARY:Bastu på Ågesta - INSTÄLLD
DESCRIPTION:Bastun inställ p.g.a. brist på funktionärer
URL:https://nfeos.se/event/bastu-pa-agesta-47/
END:VEVENT
BEGIN:VEVENT
DTSTART;TZID=Europe/Stockholm:20250820T180000
DTEND;TZID=Europe/Stockholm:20250820T183000
DTSTAMP:20260423T133645
CREATED:20250724T134423Z
LAST-MODIFIED:20250724T134423Z
UID:509-1755712800-1755714600@nfeos.se
SUMMARY:Nakengympa på Ågesta
DESCRIPTION:
URL:https://nfeos.se/event/nakengympa-pa-agesta-11/
END:VEVENT
BEGIN:VEVENT
DTSTART;TZID=Europe/Stockholm:20250820T180000
DTEND;TZID=Europe/Stockholm:20250820T210000
DTSTAMP:20260423T133645
CREATED:20250610T112049Z
LAST-MODIFIED:20250610T112049Z
UID:421-1755712800-1755723600@nfeos.se
SUMMARY:Grillkväll på Ågesta
DESCRIPTION:Vid bra väder tänder vi grillen vid 16-tiden. Var och en får ta med sig det man önska grilla.
URL:https://nfeos.se/event/grillkvall-pa-agesta-12/
END:VEVENT
BEGIN:VEVENT
DTSTART;TZID=Europe/Stockholm:20250820T183000
DTEND;TZID=Europe/Stockholm:20250820T230000
DTSTAMP:20260423T133645
CREATED:20250722T071556Z
LAST-MODIFIED:20250722T071556Z
UID:495-1755714600-1755730800@nfeos.se
SUMMARY:Bastu på Ågesta
DESCRIPTION:
URL:https://nfeos.se/event/bastu-pa-agesta-45/
END:VEVENT
BEGIN:VEVENT
DTSTART;TZID=Europe/Stockholm:20250822T200000
DTEND;TZID=Europe/Stockholm:20250822T230000
DTSTAMP:20260423T133645
CREATED:20250813T164833Z
LAST-MODIFIED:20250813T164833Z
UID:602-1755892800-1755903600@nfeos.se
SUMMARY:Medlemsbastu på Ågesta - aufguss
DESCRIPTION:Endast för medlemmar och deras gäster. Max En gäst per medlem\, i mån av plats! \n  \nVi välkomnar Er till en aufguss-kväll på Ågesta med väldoftande eteriska oljor och rikligt med vattenpåhällning. Personer som är känsliga för starka dofter eller ånga avråds från att delta. \n  \nFörsta sessionen börjar cirka 18.30\, eller när tillräckligt många har anlänt. Insläpp sker inte under pågående session. Musik kan spelas av aufguss-mästarna under sessionerna\, och om inget annat anges så föredrar vi tystnad under sessionerna. \n  \nVi brukar informera om nästa session en 5-10 minuter innan den börjar\, då är det ett bra tillfälle att se till att Du druckit tillräckligt mycket vatten och att Du är tillräckligt nedkyld innan du går in i bastun igen. \nVid många deltagare turas vi om att vara i bastun\, detta gäller även vid dåligt väder så kom ihåg att ta med dig Din handduk när du lämnar bastun efter en session och att Du är inte garanterad en plats till nästa session. \n  \nVälkomna! \n  \n/ Aufguss-mästarna på Ågesta\, Anton och Cecilia”
URL:https://nfeos.se/event/medlemsbastu-pa-agesta-aufguss/
END:VEVENT
BEGIN:VEVENT
DTSTART;TZID=Europe/Stockholm:20250823T170000
DTEND;TZID=Europe/Stockholm:20250823T210000
DTSTAMP:20260423T133645
CREATED:20250722T071800Z
LAST-MODIFIED:20250722T071800Z
UID:501-1755968400-1755982800@nfeos.se
SUMMARY:Bastu på Ågesta
DESCRIPTION:
URL:https://nfeos.se/event/bastu-pa-agesta-48/
END:VEVENT
BEGIN:VEVENT
DTSTART;TZID=Europe/Stockholm:20250826T200000
DTEND;TZID=Europe/Stockholm:20250826T220000
DTSTAMP:20260423T133645
CREATED:20250717T084403Z
LAST-MODIFIED:20250717T084403Z
UID:477-1756238400-1756245600@nfeos.se
SUMMARY:QTS bastu på Ågesta
DESCRIPTION:Queer Trans Sauna på Ågesta naturistbad! \n  \nVilka är välkomna i bastun under QTS?: \n\nQueers\, transpersoner och queera transpersoner trötta på textilbad.\nDu och den/dom QTs du bjuder med har en grundförståelse för begrepp som: queer\, trans\, naturist\, samtycke och NPFdiagnoser.\n\n•Du som besöker bastun omfamnar föreningens inkluderande inställning till alla människor. Vi förväntar oss att du är respektfull och hänsynstagande mot andra besökare och respekterar föreningens valda temabastu.
URL:https://nfeos.se/event/qts-bastu-pa-agesta-2/
END:VEVENT
BEGIN:VEVENT
DTSTART;TZID=Europe/Stockholm:20250827T180000
DTEND;TZID=Europe/Stockholm:20250827T183000
DTSTAMP:20260423T133645
CREATED:20250724T134539Z
LAST-MODIFIED:20250724T134539Z
UID:511-1756317600-1756319400@nfeos.se
SUMMARY:Nakengympa på Ågesta
DESCRIPTION:
URL:https://nfeos.se/event/nakengympa-pa-agesta-12/
END:VEVENT
BEGIN:VEVENT
DTSTART;TZID=Europe/Stockholm:20250827T180000
DTEND;TZID=Europe/Stockholm:20250827T210000
DTSTAMP:20260423T133645
CREATED:20250610T112128Z
LAST-MODIFIED:20250610T112128Z
UID:423-1756317600-1756328400@nfeos.se
SUMMARY:Grillkväll på Ågesta
DESCRIPTION:Vid bra väder tänder vi grillen vid 16-tiden. Var och en får ta med sig det man önska grilla.
URL:https://nfeos.se/event/grillkvall-pa-agesta-13/
END:VEVENT
BEGIN:VEVENT
DTSTART;TZID=Europe/Stockholm:20250827T180000
DTEND;TZID=Europe/Stockholm:20250827T220000
DTSTAMP:20260423T133645
CREATED:20250724T134624Z
LAST-MODIFIED:20250724T134624Z
UID:513-1756317600-1756332000@nfeos.se
SUMMARY:Bastu på Ågesta
DESCRIPTION:
URL:https://nfeos.se/event/bastu-pa-agesta-50/
END:VEVENT
BEGIN:VEVENT
DTSTART;TZID=Europe/Stockholm:20250830T160000
DTEND;TZID=Europe/Stockholm:20250830T200000
DTSTAMP:20260423T133645
CREATED:20250724T134811Z
LAST-MODIFIED:20250825T060722Z
UID:515-1756569600-1756584000@nfeos.se
SUMMARY:Bastu på Ågesta
DESCRIPTION:
URL:https://nfeos.se/event/bastu-pa-agesta-51/
END:VEVENT
END:VCALENDAR