BEGIN:VCALENDAR
VERSION:2.0
PRODID:-//Naturistföreningen Eos - ECPv6.15.20//NONSGML v1.0//EN
CALSCALE:GREGORIAN
METHOD:PUBLISH
X-ORIGINAL-URL:https://nfeos.se
X-WR-CALDESC:Händelser för Naturistföreningen Eos
REFRESH-INTERVAL;VALUE=DURATION:PT1H
X-Robots-Tag:noindex
X-PUBLISHED-TTL:PT1H
BEGIN:VTIMEZONE
TZID:Europe/Stockholm
BEGIN:DAYLIGHT
TZOFFSETFROM:+0100
TZOFFSETTO:+0200
TZNAME:CEST
DTSTART:20240331T010000
END:DAYLIGHT
BEGIN:STANDARD
TZOFFSETFROM:+0200
TZOFFSETTO:+0100
TZNAME:CET
DTSTART:20241027T010000
END:STANDARD
BEGIN:DAYLIGHT
TZOFFSETFROM:+0100
TZOFFSETTO:+0200
TZNAME:CEST
DTSTART:20250330T010000
END:DAYLIGHT
BEGIN:STANDARD
TZOFFSETFROM:+0200
TZOFFSETTO:+0100
TZNAME:CET
DTSTART:20251026T010000
END:STANDARD
BEGIN:DAYLIGHT
TZOFFSETFROM:+0100
TZOFFSETTO:+0200
TZNAME:CEST
DTSTART:20260329T010000
END:DAYLIGHT
BEGIN:STANDARD
TZOFFSETFROM:+0200
TZOFFSETTO:+0100
TZNAME:CET
DTSTART:20261025T010000
END:STANDARD
END:VTIMEZONE
BEGIN:VEVENT
DTSTART;TZID=Europe/Stockholm:20250830T160000
DTEND;TZID=Europe/Stockholm:20250830T200000
DTSTAMP:20260423T162351
CREATED:20250724T134811Z
LAST-MODIFIED:20250825T060722Z
UID:515-1756569600-1756584000@nfeos.se
SUMMARY:Bastu på Ågesta
DESCRIPTION:
URL:https://nfeos.se/event/bastu-pa-agesta-51/
END:VEVENT
BEGIN:VEVENT
DTSTART;TZID=Europe/Stockholm:20250901T180000
DTEND;TZID=Europe/Stockholm:20250901T210000
DTSTAMP:20260423T162351
CREATED:20250809T035649Z
LAST-MODIFIED:20250831T200023Z
UID:524-1756749600-1756760400@nfeos.se
SUMMARY:Bastu på Ågesta
DESCRIPTION:
URL:https://nfeos.se/event/bastu-pa-agesta-52/
END:VEVENT
BEGIN:VEVENT
DTSTART;TZID=Europe/Stockholm:20250902T180000
DTEND;TZID=Europe/Stockholm:20250902T200000
DTSTAMP:20260423T162351
CREATED:20250717T084514Z
LAST-MODIFIED:20250831T195946Z
UID:479-1756836000-1756843200@nfeos.se
SUMMARY:QTS bastu på Ågesta
DESCRIPTION:Queer Trans Sauna på Ågesta naturistbad! \n  \nVilka är välkomna i bastun under QTS?: \n\nQueers\, transpersoner och queera transpersoner trötta på textilbad.\nDu och den/dom QTs du bjuder med har en grundförståelse för begrepp som: queer\, trans\, naturist\, samtycke och NPFdiagnoser.\n\n•Du som besöker bastun omfamnar föreningens inkluderande inställning till alla människor. Vi förväntar oss att du är respektfull och hänsynstagande mot andra besökare och respekterar föreningens valda temabastu.
URL:https://nfeos.se/event/qts-bastu-pa-agesta-3/
END:VEVENT
BEGIN:VEVENT
DTSTART;TZID=Europe/Stockholm:20250903T160000
DTEND;TZID=Europe/Stockholm:20250903T200000
DTSTAMP:20260423T162351
CREATED:20250812T142354Z
LAST-MODIFIED:20250831T195908Z
UID:536-1756915200-1756929600@nfeos.se
SUMMARY:Bastu på Ågesta
DESCRIPTION:
URL:https://nfeos.se/event/bastu-pa-agesta-56/
END:VEVENT
BEGIN:VEVENT
DTSTART;TZID=Europe/Stockholm:20250905T190000
DTEND;TZID=Europe/Stockholm:20250905T210000
DTSTAMP:20260423T162351
CREATED:20250809T035749Z
LAST-MODIFIED:20250831T195830Z
UID:526-1757098800-1757106000@nfeos.se
SUMMARY:Medlemsbastu på Ågesta
DESCRIPTION:
URL:https://nfeos.se/event/medlemsbastu-pa-agesta-3/
END:VEVENT
BEGIN:VEVENT
DTSTART;TZID=Europe/Stockholm:20250906T140000
DTEND;TZID=Europe/Stockholm:20250906T180000
DTSTAMP:20260423T162351
CREATED:20250812T143830Z
LAST-MODIFIED:20250831T195737Z
UID:568-1757167200-1757181600@nfeos.se
SUMMARY:Bastu på Ågesta
DESCRIPTION:
URL:https://nfeos.se/event/bastu-pa-agesta-72/
END:VEVENT
BEGIN:VEVENT
DTSTART;TZID=Europe/Stockholm:20250908T180000
DTEND;TZID=Europe/Stockholm:20250908T210000
DTSTAMP:20260423T162351
CREATED:20250824T082935Z
LAST-MODIFIED:20250831T195658Z
UID:608-1757354400-1757365200@nfeos.se
SUMMARY:Bastu på Ågesta
DESCRIPTION:
URL:https://nfeos.se/event/bastu-pa-agesta-88/
END:VEVENT
BEGIN:VEVENT
DTSTART;TZID=Europe/Stockholm:20250909T180000
DTEND;TZID=Europe/Stockholm:20250909T200000
DTSTAMP:20260423T162351
CREATED:20250717T084603Z
LAST-MODIFIED:20250831T195625Z
UID:481-1757440800-1757448000@nfeos.se
SUMMARY:QTS bastu på Ågesta
DESCRIPTION:Queer Trans Sauna på Ågesta naturistbad! \n  \nVilka är välkomna i bastun under QTS?: \n\nQueers\, transpersoner och queera transpersoner trötta på textilbad.\nDu och den/dom QTs du bjuder med har en grundförståelse för begrepp som: queer\, trans\, naturist\, samtycke och NPFdiagnoser.\n\n•Du som besöker bastun omfamnar föreningens inkluderande inställning till alla människor. Vi förväntar oss att du är respektfull och hänsynstagande mot andra besökare och respekterar föreningens valda temabastu.
URL:https://nfeos.se/event/qts-bastu-pa-agesta-4/
END:VEVENT
BEGIN:VEVENT
DTSTART;TZID=Europe/Stockholm:20250910T160000
DTEND;TZID=Europe/Stockholm:20250910T200000
DTSTAMP:20260423T162351
CREATED:20250812T142437Z
LAST-MODIFIED:20250831T195548Z
UID:538-1757520000-1757534400@nfeos.se
SUMMARY:Bastu på Ågesta
DESCRIPTION:
URL:https://nfeos.se/event/bastu-pa-agesta-57/
END:VEVENT
BEGIN:VEVENT
DTSTART;TZID=Europe/Stockholm:20250912T180000
DTEND;TZID=Europe/Stockholm:20250912T210000
DTSTAMP:20260423T162351
CREATED:20250909T150325Z
LAST-MODIFIED:20250909T150325Z
UID:664-1757700000-1757710800@nfeos.se
SUMMARY:Medlemsbastu på Ågesta
DESCRIPTION:
URL:https://nfeos.se/event/medlemsbastu-pa-agesta-4/
END:VEVENT
BEGIN:VEVENT
DTSTART;TZID=Europe/Stockholm:20250913T140000
DTEND;TZID=Europe/Stockholm:20250913T180000
DTSTAMP:20260423T162351
CREATED:20250812T143857Z
LAST-MODIFIED:20250831T195504Z
UID:570-1757772000-1757786400@nfeos.se
SUMMARY:Bastu på Ågesta
DESCRIPTION:
URL:https://nfeos.se/event/bastu-pa-agesta-73/
END:VEVENT
BEGIN:VEVENT
DTSTART;TZID=Europe/Stockholm:20250915T180000
DTEND;TZID=Europe/Stockholm:20250915T210000
DTSTAMP:20260423T162351
CREATED:20250907T154258Z
LAST-MODIFIED:20250907T154258Z
UID:660-1757959200-1757970000@nfeos.se
SUMMARY:Bastu på Ågesta med samtal om naturism
DESCRIPTION:Temabastu måndag 15/9 kl 18- 21 i och utanför bastun. \nAnders A. Aronsson ordförande för Nf Nakenkultur i Uppsala besöker oss. \nAnders är en van föreläsare och poddare. \nDet finns mycket att samtala om för såväl nya som erfarna naturister.\nMen även för den som är intresserad av att veta mera om naturism\, som ett steg på vägen eller den som funderar på att göra ett första besök vid ett nakenbad. \nSamtal kommer börja ca kl 18.30. \nÄmnen om tex naturismens framväxt\, kroppsuppfattning\, synen på nakenhet\, hälsoaspekter\, vett och etikett och mycket mer. \nDu behöver inte vara medlem för att delta. \nOm du önskar basta\, medtag legitimation eller medlemskort. \nObs! Vid regn sitter vi i bastun. \nVälkomna \nNaturistföreningen Eos \nTrygghetsgruppen
URL:https://nfeos.se/event/bastu-pa-agesta-med-samtal-om-naturism/
END:VEVENT
BEGIN:VEVENT
DTSTART;TZID=Europe/Stockholm:20250916T180000
DTEND;TZID=Europe/Stockholm:20250916T200000
DTSTAMP:20260423T162351
CREATED:20250717T084652Z
LAST-MODIFIED:20250831T195345Z
UID:483-1758045600-1758052800@nfeos.se
SUMMARY:QTS bastu på Ågesta
DESCRIPTION:Queer Trans Sauna på Ågesta naturistbad! \n  \nVilka är välkomna i bastun under QTS?: \n\nQueers\, transpersoner och queera transpersoner trötta på textilbad.\nDu och den/dom QTs du bjuder med har en grundförståelse för begrepp som: queer\, trans\, naturist\, samtycke och NPFdiagnoser.\n\n•Du som besöker bastun omfamnar föreningens inkluderande inställning till alla människor. Vi förväntar oss att du är respektfull och hänsynstagande mot andra besökare och respekterar föreningens valda temabastu.
URL:https://nfeos.se/event/qts-bastu-pa-agesta-5/
END:VEVENT
BEGIN:VEVENT
DTSTART;TZID=Europe/Stockholm:20250917T160000
DTEND;TZID=Europe/Stockholm:20250917T200000
DTSTAMP:20260423T162351
CREATED:20250812T142536Z
LAST-MODIFIED:20250831T195303Z
UID:540-1758124800-1758139200@nfeos.se
SUMMARY:Bastu på Ågesta
DESCRIPTION:
URL:https://nfeos.se/event/bastu-pa-agesta-58/
END:VEVENT
BEGIN:VEVENT
DTSTART;TZID=Europe/Stockholm:20250919T180000
DTEND;TZID=Europe/Stockholm:20250919T210000
DTSTAMP:20260423T162351
CREATED:20250907T154534Z
LAST-MODIFIED:20250907T154534Z
UID:662-1758304800-1758315600@nfeos.se
SUMMARY:Medlemsbastu på Ågesta - aufguss
DESCRIPTION:Endast för medlemmar och deras gäster. Max En gäst per medlem\, i mån av plats! \n  \nVi välkomnar Er till en aufguss-kväll på Ågesta med väldoftande eteriska oljor och rikligt med vattenpåhällning. Personer som är känsliga för starka dofter eller ånga avråds från att delta. \n  \nFörsta sessionen börjar cirka 18.30\, eller när tillräckligt många har anlänt. Insläpp sker inte under pågående session. Musik kan spelas av aufguss-mästarna under sessionerna\, och om inget annat anges så föredrar vi tystnad under sessionerna. \n  \nVi brukar informera om nästa session en 5-10 minuter innan den börjar\, då är det ett bra tillfälle att se till att Du druckit tillräckigt mycket vatten och att Du är tillräckligt nedkyld innan du går in i bastun igen. \nVid många deltagare turas vi om att vara i bastun\, detta gäller även vid dåligt väder så kom ihåg\, att ta med dig Din handduk när du lämnar bastun efter en session och att Du är inte garanterad en plats till nästa session. \n  \nVälkomna! \n  \n/ Aufguss-mästarna på Ågesta\, Anton och Cecilia
URL:https://nfeos.se/event/medlemsbastu-pa-agesta-aufguss-2/
END:VEVENT
BEGIN:VEVENT
DTSTART;TZID=Europe/Stockholm:20250920T140000
DTEND;TZID=Europe/Stockholm:20250920T180000
DTSTAMP:20260423T162351
CREATED:20250812T143935Z
LAST-MODIFIED:20250831T195213Z
UID:572-1758376800-1758391200@nfeos.se
SUMMARY:Bastu på Ågesta
DESCRIPTION:
URL:https://nfeos.se/event/bastu-pa-agesta-74/
END:VEVENT
BEGIN:VEVENT
DTSTART;TZID=Europe/Stockholm:20250921T130000
DTEND;TZID=Europe/Stockholm:20250921T160000
DTSTAMP:20260423T162351
CREATED:20250901T092423Z
LAST-MODIFIED:20250901T092423Z
UID:649-1758459600-1758470400@nfeos.se
SUMMARY:Höststädning på Ågesta
DESCRIPTION:Vi plockar in flottarna\, tar ner gungorna\, krattar löv (om de har fallit) och plockar undan en del bord och soptunnor. Efter jobbet bjuder vi på korv och bröd samt kaffe/dryck. Alla som deltar är också välkomna att bada gratis vid premiären i Bredängsbadet samma dag.
URL:https://nfeos.se/event/hoststadning-pa-agesta/
END:VEVENT
BEGIN:VEVENT
DTSTART;TZID=Europe/Stockholm:20250921T200000
DTEND;TZID=Europe/Stockholm:20250921T210000
DTSTAMP:20260423T162351
CREATED:20250830T080205Z
LAST-MODIFIED:20250831T193801Z
UID:612-1758484800-1758488400@nfeos.se
SUMMARY:Bredängsbadet
DESCRIPTION:Välkomna att bada med oss \nTänk på att du måste ta med egen handduk/ badlakan. \nInsläpp 19.30 . 20.00 \nBassängen är öppen från kl. 20.00 – 21.00 \nVattengympa 20.15 – 20.45 \nBadet ska vara utrymt kl. 21.30
URL:https://nfeos.se/event/bredangsbadet-3/
END:VEVENT
BEGIN:VEVENT
DTSTART;TZID=Europe/Stockholm:20250922T180000
DTEND;TZID=Europe/Stockholm:20250922T210000
DTSTAMP:20260423T162351
CREATED:20250809T035928Z
LAST-MODIFIED:20250831T195002Z
UID:530-1758564000-1758574800@nfeos.se
SUMMARY:Bastu på Ågesta
DESCRIPTION:
URL:https://nfeos.se/event/bastu-pa-agesta-54/
END:VEVENT
BEGIN:VEVENT
DTSTART;TZID=Europe/Stockholm:20250923T180000
DTEND;TZID=Europe/Stockholm:20250923T200000
DTSTAMP:20260423T162351
CREATED:20250717T084733Z
LAST-MODIFIED:20250831T194912Z
UID:485-1758650400-1758657600@nfeos.se
SUMMARY:QTS bastu på Ågesta
DESCRIPTION:Queer Trans Sauna på Ågesta naturistbad! \n  \nVilka är välkomna i bastun under QTS?: \n\nQueers\, transpersoner och queera transpersoner trötta på textilbad.\nDu och den/dom QTs du bjuder med har en grundförståelse för begrepp som: queer\, trans\, naturist\, samtycke och NPFdiagnoser.\n\n•Du som besöker bastun omfamnar föreningens inkluderande inställning till alla människor. Vi förväntar oss att du är respektfull och hänsynstagande mot andra besökare och respekterar föreningens valda temabastu.
URL:https://nfeos.se/event/qts-bastu-pa-agesta-6/
END:VEVENT
BEGIN:VEVENT
DTSTART;TZID=Europe/Stockholm:20250924T160000
DTEND;TZID=Europe/Stockholm:20250924T200000
DTSTAMP:20260423T162351
CREATED:20250812T142832Z
LAST-MODIFIED:20250831T194820Z
UID:542-1758729600-1758744000@nfeos.se
SUMMARY:Bastu på Ågesta
DESCRIPTION:
URL:https://nfeos.se/event/bastu-pa-agesta-59/
END:VEVENT
BEGIN:VEVENT
DTSTART;TZID=Europe/Stockholm:20250926T180000
DTEND;TZID=Europe/Stockholm:20250926T210000
DTSTAMP:20260423T162351
CREATED:20250923T072416Z
LAST-MODIFIED:20250923T072416Z
UID:674-1758909600-1758920400@nfeos.se
SUMMARY:Medlemsbastu på Ågesta
DESCRIPTION:
URL:https://nfeos.se/event/medlemsbastu-pa-agesta-5/
END:VEVENT
BEGIN:VEVENT
DTSTART;TZID=Europe/Stockholm:20250927T140000
DTEND;TZID=Europe/Stockholm:20250927T180000
DTSTAMP:20260423T162351
CREATED:20250812T144002Z
LAST-MODIFIED:20250831T194658Z
UID:574-1758981600-1758996000@nfeos.se
SUMMARY:Bastu på Ågesta
DESCRIPTION:
URL:https://nfeos.se/event/bastu-pa-agesta-75/
END:VEVENT
BEGIN:VEVENT
DTSTART;TZID=Europe/Stockholm:20250928T200000
DTEND;TZID=Europe/Stockholm:20250928T210000
DTSTAMP:20260423T162351
CREATED:20250830T080346Z
LAST-MODIFIED:20250831T194549Z
UID:614-1759089600-1759093200@nfeos.se
SUMMARY:Bredängsbadet
DESCRIPTION:Välkomna att bada med oss \nTänk på att du måste ta med egen handduk/ badlakan. \nInsläpp 19.30 . 20.00 \nBassängen är öppen från kl. 20.00 – 21.00 \nVattengympa 20.15 – 20.45 \nBadet ska vara utrymt kl. 21.30 \n 
URL:https://nfeos.se/event/bredangsbadet-7/
END:VEVENT
BEGIN:VEVENT
DTSTART;TZID=Europe/Stockholm:20250929T180000
DTEND;TZID=Europe/Stockholm:20250929T210000
DTSTAMP:20260423T162351
CREATED:20250812T142248Z
LAST-MODIFIED:20250831T194443Z
UID:534-1759168800-1759179600@nfeos.se
SUMMARY:Bastu på Ågesta
DESCRIPTION:
URL:https://nfeos.se/event/bastu-pa-agesta-55/
END:VEVENT
BEGIN:VEVENT
DTSTART;TZID=Europe/Stockholm:20250930T180000
DTEND;TZID=Europe/Stockholm:20250930T200000
DTSTAMP:20260423T162351
CREATED:20250717T084818Z
LAST-MODIFIED:20250831T194248Z
UID:487-1759255200-1759262400@nfeos.se
SUMMARY:QTS bastu på Ågesta
DESCRIPTION:Queer Trans Sauna på Ågesta naturistbad! \n  \nVilka är välkomna i bastun under QTS?: \n\nQueers\, transpersoner och queera transpersoner trötta på textilbad.\nDu och den/dom QTs du bjuder med har en grundförståelse för begrepp som: queer\, trans\, naturist\, samtycke och NPFdiagnoser.\n\n•Du som besöker bastun omfamnar föreningens inkluderande inställning till alla människor. Vi förväntar oss att du är respektfull och hänsynstagande mot andra besökare och respekterar föreningens valda temabastu.
URL:https://nfeos.se/event/qts-bastu-pa-agesta-7/
END:VEVENT
BEGIN:VEVENT
DTSTART;TZID=Europe/Stockholm:20251001T160000
DTEND;TZID=Europe/Stockholm:20251001T200000
DTSTAMP:20260423T162351
CREATED:20250812T142909Z
LAST-MODIFIED:20250831T200351Z
UID:544-1759334400-1759348800@nfeos.se
SUMMARY:Bastu på Ågesta
DESCRIPTION:
URL:https://nfeos.se/event/bastu-pa-agesta-60/
END:VEVENT
BEGIN:VEVENT
DTSTART;TZID=Europe/Stockholm:20251003T180000
DTEND;TZID=Europe/Stockholm:20251003T210000
DTSTAMP:20260423T162351
CREATED:20250930T085202Z
LAST-MODIFIED:20250930T085202Z
UID:685-1759514400-1759525200@nfeos.se
SUMMARY:Medlemsbastu på Ågesta - aufguss
DESCRIPTION:Endast för medlemmar och deras gäster. Max En gäst per medlem\, i mån av plats! \n  \nVi välkomnar Er till en aufguss-kväll på Ågesta med väldoftande eteriska oljor och rikligt med vattenpåhällning. Personer som är känsliga för starka dofter eller ånga avråds från att delta. \n  \nFörsta sessionen börjar cirka 18.30\, eller när tillräckligt många har anlänt. Insläpp sker inte under pågående session. Musik kan spelas av aufguss-mästarna under sessionerna\, och om inget annat anges så föredrar vi tystnad under sessionerna. \n  \nVi brukar informera om nästa session en 5-10 minuter innan den börjar\, då är det ett bra tillfälle att se till att Du druckit tillräckigt mycket vatten och att Du är tillräckligt nedkyld innan du går in i bastun igen. \nVid många deltagare turas vi om att vara i bastun. Detta gäller även vid dåligt eller kallt väder\, så kom ihåg att ta med dig Din handduk när du lämnar bastun efter en session och att Du är inte garanterad en plats till nästa session. Du kan behöva stå ute ett tag\, så ta med dig kläder så att du klarar av det. \n  \nVälkomna! \n  \n/ Aufguss-mästarna på Ågesta\, Anton och Cecilia
URL:https://nfeos.se/event/medlemsbastu-pa-agesta-aufguss-3/
END:VEVENT
BEGIN:VEVENT
DTSTART;TZID=Europe/Stockholm:20251004T140000
DTEND;TZID=Europe/Stockholm:20251004T180000
DTSTAMP:20260423T162351
CREATED:20250812T144038Z
LAST-MODIFIED:20250831T200427Z
UID:576-1759586400-1759600800@nfeos.se
SUMMARY:Bastu på Ågesta
DESCRIPTION:
URL:https://nfeos.se/event/bastu-pa-agesta-76/
END:VEVENT
BEGIN:VEVENT
DTSTART;TZID=Europe/Stockholm:20251005T200000
DTEND;TZID=Europe/Stockholm:20251005T210000
DTSTAMP:20260423T162351
CREATED:20250831T065548Z
LAST-MODIFIED:20250831T200515Z
UID:616-1759694400-1759698000@nfeos.se
SUMMARY:Bredängsbadet
DESCRIPTION:Välkomna att bada med oss \nTänk på att du måste ta med egen handduk/ badlakan. \nInsläpp 19.30 . 20.00 \nBassängen är öppen från kl. 20.00 – 21.00 \nVattengympa 20.15 – 20.45 \nBadet ska vara utrymt kl. 21.30
URL:https://nfeos.se/event/bredangsbadet-8/
END:VEVENT
END:VCALENDAR