BEGIN:VCALENDAR
VERSION:2.0
PRODID:-//Naturistföreningen Eos - ECPv6.15.20//NONSGML v1.0//EN
CALSCALE:GREGORIAN
METHOD:PUBLISH
X-ORIGINAL-URL:https://nfeos.se
X-WR-CALDESC:Händelser för Naturistföreningen Eos
REFRESH-INTERVAL;VALUE=DURATION:PT1H
X-Robots-Tag:noindex
X-PUBLISHED-TTL:PT1H
BEGIN:VTIMEZONE
TZID:Europe/Stockholm
BEGIN:DAYLIGHT
TZOFFSETFROM:+0100
TZOFFSETTO:+0200
TZNAME:CEST
DTSTART:20240331T010000
END:DAYLIGHT
BEGIN:STANDARD
TZOFFSETFROM:+0200
TZOFFSETTO:+0100
TZNAME:CET
DTSTART:20241027T010000
END:STANDARD
BEGIN:DAYLIGHT
TZOFFSETFROM:+0100
TZOFFSETTO:+0200
TZNAME:CEST
DTSTART:20250330T010000
END:DAYLIGHT
BEGIN:STANDARD
TZOFFSETFROM:+0200
TZOFFSETTO:+0100
TZNAME:CET
DTSTART:20251026T010000
END:STANDARD
BEGIN:DAYLIGHT
TZOFFSETFROM:+0100
TZOFFSETTO:+0200
TZNAME:CEST
DTSTART:20260329T010000
END:DAYLIGHT
BEGIN:STANDARD
TZOFFSETFROM:+0200
TZOFFSETTO:+0100
TZNAME:CET
DTSTART:20261025T010000
END:STANDARD
END:VTIMEZONE
BEGIN:VEVENT
DTSTART;TZID=Europe/Stockholm:20250428T210000
DTEND;TZID=Europe/Stockholm:20250428T230000
DTSTAMP:20260423T122828
CREATED:20250416T045639Z
LAST-MODIFIED:20250416T045639Z
UID:227-1745874000-1745881200@nfeos.se
SUMMARY:Bastu på Ågesta
DESCRIPTION:
URL:https://nfeos.se/event/bastu-pa-agesta-24/
END:VEVENT
BEGIN:VEVENT
DTSTART;TZID=Europe/Stockholm:20250430T180000
DTEND;TZID=Europe/Stockholm:20250430T220000
DTSTAMP:20260423T122828
CREATED:20250408T100357Z
LAST-MODIFIED:20250408T100357Z
UID:172-1746036000-1746050400@nfeos.se
SUMMARY:Bastu på Ågesta
DESCRIPTION:
URL:https://nfeos.se/event/bastu-pa-agesta-14/
END:VEVENT
BEGIN:VEVENT
DTSTART;TZID=Europe/Stockholm:20250502T200000
DTEND;TZID=Europe/Stockholm:20250502T230000
DTSTAMP:20260423T122828
CREATED:20250408T102734Z
LAST-MODIFIED:20250422T183124Z
UID:200-1746216000-1746226800@nfeos.se
SUMMARY:Bastu på Ågesta - endast medlemmar (Aufguss)
DESCRIPTION:
URL:https://nfeos.se/event/bastu-pa-agesta-endast-medlemmar-3/
END:VEVENT
BEGIN:VEVENT
DTSTART;TZID=Europe/Stockholm:20250503T160000
DTEND;TZID=Europe/Stockholm:20250503T200000
DTSTAMP:20260423T122828
CREATED:20250408T095308Z
LAST-MODIFIED:20250408T095308Z
UID:156-1746288000-1746302400@nfeos.se
SUMMARY:Bastu på Ågesta
DESCRIPTION:
URL:https://nfeos.se/event/bastu-pa-agesta-6/
END:VEVENT
BEGIN:VEVENT
DTSTART;TZID=Europe/Stockholm:20250504T150000
DTEND;TZID=Europe/Stockholm:20250504T180000
DTSTAMP:20260423T122828
CREATED:20250430T124155Z
LAST-MODIFIED:20250430T124155Z
UID:244-1746370800-1746381600@nfeos.se
SUMMARY:Städning/öppning av Ågestabadet
DESCRIPTION:Vi städar\, krattar och gör fint. Gungor ska sättas upp\, borden ska fram\, boulbanan ska rensas och soptunnor placeras ut. Efter väl förrättat värv bjuder vi på korv med bröd och dryck samt kaffe med kaka. Välkomna!
URL:https://nfeos.se/event/stadning-oppning-av-agestabadet/
END:VEVENT
BEGIN:VEVENT
DTSTART;TZID=Europe/Stockholm:20250504T220000
DTEND;TZID=Europe/Stockholm:20250504T230000
DTSTAMP:20260423T122828
CREATED:20250408T101549Z
LAST-MODIFIED:20250408T101549Z
UID:188-1746396000-1746399600@nfeos.se
SUMMARY:Bredängsbadet
DESCRIPTION:Välkomna att bada med oss \nTänk på att du måste ta med egen handduk/ badlakan. \nInsläpp 19.30 . 20.00 \nBassängen är öppen från kl. 20.00 – 21.00 \nTills vidare har vi tyvärr ingen vattengymnastik.
URL:https://nfeos.se/event/bredangsbadet-5/
END:VEVENT
BEGIN:VEVENT
DTSTART;TZID=Europe/Stockholm:20250505T210000
DTEND;TZID=Europe/Stockholm:20250505T230000
DTSTAMP:20260423T122828
CREATED:20250409T161713Z
LAST-MODIFIED:20250409T161713Z
UID:217-1746478800-1746486000@nfeos.se
SUMMARY:Bastu på Ågesta
DESCRIPTION:
URL:https://nfeos.se/event/bastu-pa-agesta-21/
END:VEVENT
BEGIN:VEVENT
DTSTART;TZID=Europe/Stockholm:20250507T180000
DTEND;TZID=Europe/Stockholm:20250507T220000
DTSTAMP:20260423T122828
CREATED:20250408T100437Z
LAST-MODIFIED:20250408T100437Z
UID:174-1746640800-1746655200@nfeos.se
SUMMARY:Bastu på Ågesta
DESCRIPTION:
URL:https://nfeos.se/event/bastu-pa-agesta-15/
END:VEVENT
BEGIN:VEVENT
DTSTART;TZID=Europe/Stockholm:20250509T203000
DTEND;TZID=Europe/Stockholm:20250509T230000
DTSTAMP:20260423T122828
CREATED:20250416T045801Z
LAST-MODIFIED:20250416T045801Z
UID:229-1746822600-1746831600@nfeos.se
SUMMARY:Bastu på Ågesta - medlemmar
DESCRIPTION:
URL:https://nfeos.se/event/bastu-pa-agesta-medlemmar/
END:VEVENT
BEGIN:VEVENT
DTSTART;TZID=Europe/Stockholm:20250510T160000
DTEND;TZID=Europe/Stockholm:20250510T200000
DTSTAMP:20260423T122828
CREATED:20250408T095354Z
LAST-MODIFIED:20250408T095354Z
UID:158-1746892800-1746907200@nfeos.se
SUMMARY:Bastu på Ågesta
DESCRIPTION:
URL:https://nfeos.se/event/bastu-pa-agesta-7/
END:VEVENT
BEGIN:VEVENT
DTSTART;TZID=Europe/Stockholm:20250511T220000
DTEND;TZID=Europe/Stockholm:20250511T230000
DTSTAMP:20260423T122828
CREATED:20250408T101635Z
LAST-MODIFIED:20250408T101635Z
UID:190-1747000800-1747004400@nfeos.se
SUMMARY:Bredängsbadet
DESCRIPTION:Välkomna att bada med oss \nTänk på att du måste ta med egen handduk/ badlakan. \nInsläpp 19.30 . 20.00 \nBassängen är öppen från kl. 20.00 – 21.00 \nTills vidare har vi tyvärr ingen vattengymnastik.
URL:https://nfeos.se/event/bredangsbadet-6/
END:VEVENT
BEGIN:VEVENT
DTSTART;TZID=Europe/Stockholm:20250512T210000
DTEND;TZID=Europe/Stockholm:20250512T230000
DTSTAMP:20260423T122828
CREATED:20250416T045844Z
LAST-MODIFIED:20250416T045844Z
UID:231-1747083600-1747090800@nfeos.se
SUMMARY:Bastu på Ågesta
DESCRIPTION:
URL:https://nfeos.se/event/bastu-pa-agesta-25/
END:VEVENT
BEGIN:VEVENT
DTSTART;TZID=Europe/Stockholm:20250514T180000
DTEND;TZID=Europe/Stockholm:20250514T220000
DTSTAMP:20260423T122828
CREATED:20250408T100514Z
LAST-MODIFIED:20250408T100514Z
UID:176-1747245600-1747260000@nfeos.se
SUMMARY:Bastu på Ågesta
DESCRIPTION:
URL:https://nfeos.se/event/bastu-pa-agesta-16/
END:VEVENT
BEGIN:VEVENT
DTSTART;TZID=Europe/Stockholm:20250516T203000
DTEND;TZID=Europe/Stockholm:20250516T230000
DTSTAMP:20260423T122828
CREATED:20250424T124920Z
LAST-MODIFIED:20250424T124920Z
UID:240-1747427400-1747436400@nfeos.se
SUMMARY:Bastu på Ågesta - endast medlemmar
DESCRIPTION:
URL:https://nfeos.se/event/bastu-pa-agesta-endast-medlemmar-4/
END:VEVENT
BEGIN:VEVENT
DTSTART;TZID=Europe/Stockholm:20250517T153000
DTEND;TZID=Europe/Stockholm:20250517T200000
DTSTAMP:20260423T122828
CREATED:20250408T095446Z
LAST-MODIFIED:20250507T182331Z
UID:160-1747495800-1747512000@nfeos.se
SUMMARY:Bastu på Ågesta - Vanlig bastu 14.00 - 15.30 och Aufguss 15.30 - 18.00
DESCRIPTION:Vanlig bastu 14.00 – 15.30 och Aufguss 15.30 – 18.00
URL:https://nfeos.se/event/bastu-pa-agesta-8/
END:VEVENT
BEGIN:VEVENT
DTSTART;TZID=Europe/Stockholm:20250519T210000
DTEND;TZID=Europe/Stockholm:20250519T230000
DTSTAMP:20260423T122828
CREATED:20250409T161840Z
LAST-MODIFIED:20250409T161840Z
UID:219-1747688400-1747695600@nfeos.se
SUMMARY:Bastu på Ågesta
DESCRIPTION:
URL:https://nfeos.se/event/bastu-pa-agesta-22/
END:VEVENT
BEGIN:VEVENT
DTSTART;TZID=Europe/Stockholm:20250520T200000
DTEND;TZID=Europe/Stockholm:20250520T230000
DTSTAMP:20260423T122828
CREATED:20250517T175908Z
LAST-MODIFIED:20250517T180419Z
UID:278-1747771200-1747782000@nfeos.se
SUMMARY:Extra bastu på Ågesta (aufguss)
DESCRIPTION:Tisdag 20 maj kommer Felicia hålla i aufguss på ett extrainsatt bastupass. Bastun öppen kl 18-21\, aufguss kommer eventuellt begränsas till de första två timmarna. Om vi blir fler än 12 hoppas vi på fint väder och turas om att sitta inne i bastun på aufguss och vänta ute och kyla av oss.
URL:https://nfeos.se/event/extra-bastu-pa-agesta/
END:VEVENT
BEGIN:VEVENT
DTSTART;TZID=Europe/Stockholm:20250521T180000
DTEND;TZID=Europe/Stockholm:20250521T220000
DTSTAMP:20260423T122828
CREATED:20250408T100603Z
LAST-MODIFIED:20250408T100603Z
UID:178-1747850400-1747864800@nfeos.se
SUMMARY:Bastu på Ågesta
DESCRIPTION:
URL:https://nfeos.se/event/bastu-pa-agesta-17/
END:VEVENT
BEGIN:VEVENT
DTSTART;TZID=Europe/Stockholm:20250523T203000
DTEND;TZID=Europe/Stockholm:20250523T230000
DTSTAMP:20260423T122828
CREATED:20250514T133742Z
LAST-MODIFIED:20250514T133742Z
UID:274-1748032200-1748041200@nfeos.se
SUMMARY:Bastu på Ågesta – endast medlemmar
DESCRIPTION:
URL:https://nfeos.se/event/bastu-pa-agesta-endast-medlemmar-5/
END:VEVENT
BEGIN:VEVENT
DTSTART;TZID=Europe/Stockholm:20250524T160000
DTEND;TZID=Europe/Stockholm:20250524T200000
DTSTAMP:20260423T122828
CREATED:20250408T095544Z
LAST-MODIFIED:20250408T095544Z
UID:162-1748102400-1748116800@nfeos.se
SUMMARY:Bastu på Ågesta
DESCRIPTION:
URL:https://nfeos.se/event/bastu-pa-agesta-9/
END:VEVENT
BEGIN:VEVENT
DTSTART;TZID=Europe/Stockholm:20250526T200000
DTEND;TZID=Europe/Stockholm:20250526T230000
DTSTAMP:20260423T122828
CREATED:20250521T070047Z
LAST-MODIFIED:20250521T070047Z
UID:338-1748289600-1748300400@nfeos.se
SUMMARY:Bastu på Ågesta - Aufguss
DESCRIPTION:
URL:https://nfeos.se/event/bastu-pa-agesta-aufguss/
END:VEVENT
BEGIN:VEVENT
DTSTART;TZID=Europe/Stockholm:20250528T180000
DTEND;TZID=Europe/Stockholm:20250528T220000
DTSTAMP:20260423T122828
CREATED:20250408T100642Z
LAST-MODIFIED:20250408T100642Z
UID:180-1748455200-1748469600@nfeos.se
SUMMARY:Bastu på Ågesta
DESCRIPTION:
URL:https://nfeos.se/event/bastu-pa-agesta-18/
END:VEVENT
BEGIN:VEVENT
DTSTART;TZID=Europe/Stockholm:20250530T200000
DTEND;TZID=Europe/Stockholm:20250530T230000
DTSTAMP:20260423T122828
CREATED:20250513T102838Z
LAST-MODIFIED:20250518T184944Z
UID:262-1748635200-1748646000@nfeos.se
SUMMARY:Medlemsbastu på Ågesta 18 - 21\, aufguss 18.30 - 20.30
DESCRIPTION:
URL:https://nfeos.se/event/medlemsbastu-pa-agesta-18-21-aufguss-18-30-20/
END:VEVENT
BEGIN:VEVENT
DTSTART;TZID=Europe/Stockholm:20250531T160000
DTEND;TZID=Europe/Stockholm:20250531T200000
DTSTAMP:20260423T122828
CREATED:20250408T095624Z
LAST-MODIFIED:20250408T095624Z
UID:164-1748707200-1748721600@nfeos.se
SUMMARY:Bastu på Ågesta
DESCRIPTION:
URL:https://nfeos.se/event/bastu-pa-agesta-10/
END:VEVENT
BEGIN:VEVENT
DTSTART;TZID=Europe/Stockholm:20250602T210000
DTEND;TZID=Europe/Stockholm:20250602T230000
DTSTAMP:20260423T122828
CREATED:20250409T162020Z
LAST-MODIFIED:20250521T065725Z
UID:221-1748898000-1748905200@nfeos.se
SUMMARY:Bastu på Ågesta - Queer
DESCRIPTION:
URL:https://nfeos.se/event/bastu-pa-agesta-23/
END:VEVENT
BEGIN:VEVENT
DTSTART;TZID=Europe/Stockholm:20250604T183000
DTEND;TZID=Europe/Stockholm:20250604T230000
DTSTAMP:20260423T122828
CREATED:20250519T091342Z
LAST-MODIFIED:20250519T091342Z
UID:300-1749061800-1749078000@nfeos.se
SUMMARY:Bastu på Ågesta
DESCRIPTION:
URL:https://nfeos.se/event/bastu-pa-agesta-29/
END:VEVENT
BEGIN:VEVENT
DTSTART;TZID=Europe/Stockholm:20250607T170000
DTEND;TZID=Europe/Stockholm:20250607T210000
DTSTAMP:20260423T122828
CREATED:20250519T092120Z
LAST-MODIFIED:20250519T092120Z
UID:316-1749315600-1749330000@nfeos.se
SUMMARY:Bastu på Ågesta
DESCRIPTION:
URL:https://nfeos.se/event/bastu-pa-agesta-36/
END:VEVENT
BEGIN:VEVENT
DTSTART;TZID=Europe/Stockholm:20250609T200000
DTEND;TZID=Europe/Stockholm:20250609T230000
DTSTAMP:20260423T122828
CREATED:20250526T094502Z
LAST-MODIFIED:20250526T094502Z
UID:365-1749499200-1749510000@nfeos.se
SUMMARY:Bastu på Ågesta - aufguss
DESCRIPTION:
URL:https://nfeos.se/event/bastu-pa-agesta-aufguss-2/
END:VEVENT
BEGIN:VEVENT
DTSTART;TZID=Europe/Stockholm:20250611T180000
DTEND;TZID=Europe/Stockholm:20250611T210000
DTSTAMP:20260423T122828
CREATED:20250610T111244Z
LAST-MODIFIED:20250610T111244Z
UID:399-1749664800-1749675600@nfeos.se
SUMMARY:Grillkväll på Ågesta
DESCRIPTION:Vid bra väder tänder vi grillen vid 16-tiden. Var och en får ta med sig det man önska grilla.
URL:https://nfeos.se/event/grillkvall-pa-agesta/
END:VEVENT
BEGIN:VEVENT
DTSTART;TZID=Europe/Stockholm:20250611T183000
DTEND;TZID=Europe/Stockholm:20250611T230000
DTSTAMP:20260423T122828
CREATED:20250519T091218Z
LAST-MODIFIED:20250519T091240Z
UID:298-1749666600-1749682800@nfeos.se
SUMMARY:Bastu på Ågesta
DESCRIPTION:
URL:https://nfeos.se/event/bastu-pa-agesta-28/
END:VEVENT
END:VCALENDAR