BEGIN:VCALENDAR
VERSION:2.0
PRODID:-//Naturistföreningen Eos - ECPv6.15.20//NONSGML v1.0//EN
CALSCALE:GREGORIAN
METHOD:PUBLISH
X-WR-CALNAME:Naturistföreningen Eos
X-ORIGINAL-URL:https://nfeos.se
X-WR-CALDESC:Händelser för Naturistföreningen Eos
REFRESH-INTERVAL;VALUE=DURATION:PT1H
X-Robots-Tag:noindex
X-PUBLISHED-TTL:PT1H
BEGIN:VTIMEZONE
TZID:Europe/Stockholm
BEGIN:DAYLIGHT
TZOFFSETFROM:+0100
TZOFFSETTO:+0200
TZNAME:CEST
DTSTART:20250330T010000
END:DAYLIGHT
BEGIN:STANDARD
TZOFFSETFROM:+0200
TZOFFSETTO:+0100
TZNAME:CET
DTSTART:20251026T010000
END:STANDARD
BEGIN:DAYLIGHT
TZOFFSETFROM:+0100
TZOFFSETTO:+0200
TZNAME:CEST
DTSTART:20260329T010000
END:DAYLIGHT
BEGIN:STANDARD
TZOFFSETFROM:+0200
TZOFFSETTO:+0100
TZNAME:CET
DTSTART:20261025T010000
END:STANDARD
BEGIN:DAYLIGHT
TZOFFSETFROM:+0100
TZOFFSETTO:+0200
TZNAME:CEST
DTSTART:20270328T010000
END:DAYLIGHT
BEGIN:STANDARD
TZOFFSETFROM:+0200
TZOFFSETTO:+0100
TZNAME:CET
DTSTART:20271031T010000
END:STANDARD
END:VTIMEZONE
BEGIN:VEVENT
DTSTART;TZID=Europe/Stockholm:20260207T130000
DTEND;TZID=Europe/Stockholm:20260207T170000
DTSTAMP:20260423T131917
CREATED:20251231T140707Z
LAST-MODIFIED:20251231T141510Z
UID:876-1770469200-1770483600@nfeos.se
SUMMARY:Bastu på Ågesta
DESCRIPTION:
URL:https://nfeos.se/event/bastu-pa-agesta-113/
END:VEVENT
BEGIN:VEVENT
DTSTART;TZID=Europe/Stockholm:20260208T200000
DTEND;TZID=Europe/Stockholm:20260208T210000
DTSTAMP:20260423T131917
CREATED:20251221T163159Z
LAST-MODIFIED:20251221T163159Z
UID:831-1770580800-1770584400@nfeos.se
SUMMARY:Bredängsbadet
DESCRIPTION:Välkomna att bada med oss \nTänk på att du måste ta med egen handduk/ badlakan. \nInsläpp 19.30 . 20.00 \nBassängen är öppen från kl. 20.00 – 21.00 \nVattengympa 20.15 – 20.45 \nBadet ska vara utrymt kl. 21.30
URL:https://nfeos.se/event/bredangsbadet-24/
END:VEVENT
BEGIN:VEVENT
DTSTART;TZID=Europe/Stockholm:20260209T190000
DTEND;TZID=Europe/Stockholm:20260209T210000
DTSTAMP:20260423T131917
CREATED:20260120T175941Z
LAST-MODIFIED:20260120T175941Z
UID:911-1770663600-1770670800@nfeos.se
SUMMARY:Medlemsbastu på Ågesta
DESCRIPTION:
URL:https://nfeos.se/event/medlemsbastu-pa-agesta-22/
END:VEVENT
BEGIN:VEVENT
DTSTART;TZID=Europe/Stockholm:20260210T180000
DTEND;TZID=Europe/Stockholm:20260210T210000
DTSTAMP:20260423T131917
CREATED:20260113T105546Z
LAST-MODIFIED:20260113T105546Z
UID:903-1770746400-1770757200@nfeos.se
SUMMARY:QTS-bastu på Ågesta
DESCRIPTION:Queer Trans Sauna på Ågesta naturistbad! \n  \nVilka är välkomna i bastun under QTS?: \n\nQueers\, transpersoner och queera transpersoner trötta på textilbad.\nDu och den/dom QTs du bjuder med har en grundförståelse för begrepp som: queer\, trans\, naturist\, samtycke och NPFdiagnoser.\n\n•Du som besöker bastun omfamnar föreningens inkluderande inställning till alla människor. Vi förväntar oss att du är respektfull och hänsynstagande mot andra besökare och respekterar föreningens valda temabastu.
URL:https://nfeos.se/event/qts-bastu-pa-agesta-23/
END:VEVENT
BEGIN:VEVENT
DTSTART;TZID=Europe/Stockholm:20260211T160000
DTEND;TZID=Europe/Stockholm:20260211T200000
DTSTAMP:20260423T131917
CREATED:20251231T140418Z
LAST-MODIFIED:20251231T140418Z
UID:870-1770825600-1770840000@nfeos.se
SUMMARY:Bastu på Ågesta
DESCRIPTION:
URL:https://nfeos.se/event/bastu-pa-agesta-110/
END:VEVENT
BEGIN:VEVENT
DTSTART;TZID=Europe/Stockholm:20260213T183000
DTEND;TZID=Europe/Stockholm:20260213T210000
DTSTAMP:20260423T131917
CREATED:20260204T122153Z
LAST-MODIFIED:20260204T122153Z
UID:934-1771007400-1771016400@nfeos.se
SUMMARY:Medlemsbastu på Ågesta
DESCRIPTION:
URL:https://nfeos.se/event/medlemsbastu-pa-agesta-27/
END:VEVENT
BEGIN:VEVENT
DTSTART;TZID=Europe/Stockholm:20260214T130000
DTEND;TZID=Europe/Stockholm:20260214T170000
DTSTAMP:20260423T131917
CREATED:20251231T140737Z
LAST-MODIFIED:20251231T141232Z
UID:878-1771074000-1771088400@nfeos.se
SUMMARY:Bastu på Ågesta
DESCRIPTION:
URL:https://nfeos.se/event/bastu-pa-agesta-114/
END:VEVENT
BEGIN:VEVENT
DTSTART;TZID=Europe/Stockholm:20260215T200000
DTEND;TZID=Europe/Stockholm:20260215T210000
DTSTAMP:20260423T131917
CREATED:20251221T163235Z
LAST-MODIFIED:20251221T163235Z
UID:833-1771185600-1771189200@nfeos.se
SUMMARY:Bredängsbadet
DESCRIPTION:Välkomna att bada med oss \nTänk på att du måste ta med egen handduk/ badlakan. \nInsläpp 19.30 . 20.00 \nBassängen är öppen från kl. 20.00 – 21.00 \nVattengympa 20.15 – 20.45 \nBadet ska vara utrymt kl. 21.30
URL:https://nfeos.se/event/bredangsbadet-25/
END:VEVENT
BEGIN:VEVENT
DTSTART;TZID=Europe/Stockholm:20260216T190000
DTEND;TZID=Europe/Stockholm:20260216T210000
DTSTAMP:20260423T131917
CREATED:20260120T180014Z
LAST-MODIFIED:20260120T180014Z
UID:913-1771268400-1771275600@nfeos.se
SUMMARY:Medlemsbastu på Ågesta
DESCRIPTION:
URL:https://nfeos.se/event/medlemsbastu-pa-agesta-23/
END:VEVENT
BEGIN:VEVENT
DTSTART;TZID=Europe/Stockholm:20260217T180000
DTEND;TZID=Europe/Stockholm:20260217T210000
DTSTAMP:20260423T131917
CREATED:20260113T105628Z
LAST-MODIFIED:20260113T105628Z
UID:905-1771351200-1771362000@nfeos.se
SUMMARY:QTS-bastu på Ågesta
DESCRIPTION:Queer Trans Sauna på Ågesta naturistbad! \n  \nVilka är välkomna i bastun under QTS?: \n\nQueers\, transpersoner och queera transpersoner trötta på textilbad.\nDu och den/dom QTs du bjuder med har en grundförståelse för begrepp som: queer\, trans\, naturist\, samtycke och NPFdiagnoser.\n\n•Du som besöker bastun omfamnar föreningens inkluderande inställning till alla människor. Vi förväntar oss att du är respektfull och hänsynstagande mot andra besökare och respekterar föreningens valda temabastu.
URL:https://nfeos.se/event/qts-bastu-pa-agesta-24/
END:VEVENT
BEGIN:VEVENT
DTSTART;TZID=Europe/Stockholm:20260218T160000
DTEND;TZID=Europe/Stockholm:20260218T200000
DTSTAMP:20260423T131917
CREATED:20251231T140522Z
LAST-MODIFIED:20251231T140522Z
UID:872-1771430400-1771444800@nfeos.se
SUMMARY:Bastu på Ågesta
DESCRIPTION:
URL:https://nfeos.se/event/bastu-pa-agesta-111/
END:VEVENT
BEGIN:VEVENT
DTSTART;TZID=Europe/Stockholm:20260220T183000
DTEND;TZID=Europe/Stockholm:20260220T210000
DTSTAMP:20260423T131917
CREATED:20260130T162616Z
LAST-MODIFIED:20260130T162616Z
UID:932-1771612200-1771621200@nfeos.se
SUMMARY:Medlemsbastu på Ågesta
DESCRIPTION:
URL:https://nfeos.se/event/medlemsbastu-pa-agesta-26/
END:VEVENT
BEGIN:VEVENT
DTSTART;TZID=Europe/Stockholm:20260221T130000
DTEND;TZID=Europe/Stockholm:20260221T170000
DTSTAMP:20260423T131917
CREATED:20251231T140803Z
LAST-MODIFIED:20251231T141313Z
UID:880-1771678800-1771693200@nfeos.se
SUMMARY:Bastu på Ågesta
DESCRIPTION:
URL:https://nfeos.se/event/bastu-pa-agesta-115/
END:VEVENT
BEGIN:VEVENT
DTSTART;TZID=Europe/Stockholm:20260222T100000
DTEND;TZID=Europe/Stockholm:20260222T130000
DTSTAMP:20260423T131917
CREATED:20260217T124012Z
LAST-MODIFIED:20260217T124012Z
UID:967-1771754400-1771765200@nfeos.se
SUMMARY:Medlemsaufguss på Ågesta
DESCRIPTION:Endast för medlemmar och deras gäster. Max En gäst per medlem\, i mån av plats! \n  \nVi välkomnar Dig till en aufguss på Ågesta med väldoftande eteriska oljor och rikligt med vattenpåhällning. Personer som är känsliga för starka dofter eller ånga avråds från att delta på detta pass. \n  \nFörsta sessionen börjar cirka 10.30\, eller när tillräckligt många har anlänt. Insläpp sker inte under pågående aufguss-session. Musik kan spelas av aufguss-mästarna under sessionerna\, och om inget annat anges så föredrar vi tystnad under sessionerna. \n  \nVi brukar informera om nästa session en 5-10 minuter innan den börjar\, då är det ett bra tillfälle att se till att Du druckit tillräckigt mycket vatten och att Du är tillräckligt nedkyld innan du går in i bastun igen. \nVid många deltagare turas vi om att vara i bastun\, detta gäller även vid dåligt väder så kom ihåg\, att ta med dig Din handduk när du lämnar bastun efter en session och att Du är inte garanterad en plats till nästa session. \n  \nVälkomna! \n  \n/ Aufguss-mästarna på Ågesta \nAnton och Cecilia
URL:https://nfeos.se/event/medlemsaufguss-pa-agesta-5/
END:VEVENT
BEGIN:VEVENT
DTSTART;TZID=Europe/Stockholm:20260222T200000
DTEND;TZID=Europe/Stockholm:20260222T210000
DTSTAMP:20260423T131917
CREATED:20251221T163316Z
LAST-MODIFIED:20251221T163316Z
UID:835-1771790400-1771794000@nfeos.se
SUMMARY:Bredängsbadet
DESCRIPTION:Välkomna att bada med oss \nTänk på att du måste ta med egen handduk/ badlakan. \nInsläpp 19.30 . 20.00 \nBassängen är öppen från kl. 20.00 – 21.00 \nVattengympa 20.15 – 20.45 \nBadet ska vara utrymt kl. 21.30
URL:https://nfeos.se/event/bredangsbadet-26/
END:VEVENT
BEGIN:VEVENT
DTSTART;TZID=Europe/Stockholm:20260223T190000
DTEND;TZID=Europe/Stockholm:20260223T210000
DTSTAMP:20260423T131917
CREATED:20260120T180045Z
LAST-MODIFIED:20260120T180045Z
UID:915-1771873200-1771880400@nfeos.se
SUMMARY:Medlemsbastu på Ågesta
DESCRIPTION:
URL:https://nfeos.se/event/medlemsbastu-pa-agesta-24/
END:VEVENT
BEGIN:VEVENT
DTSTART;TZID=Europe/Stockholm:20260224T180000
DTEND;TZID=Europe/Stockholm:20260224T210000
DTSTAMP:20260423T131917
CREATED:20260113T105712Z
LAST-MODIFIED:20260113T105712Z
UID:907-1771956000-1771966800@nfeos.se
SUMMARY:QTS-bastu på Ågesta
DESCRIPTION:Queer Trans Sauna på Ågesta naturistbad! \n  \nVilka är välkomna i bastun under QTS?: \n\nQueers\, transpersoner och queera transpersoner trötta på textilbad.\nDu och den/dom QTs du bjuder med har en grundförståelse för begrepp som: queer\, trans\, naturist\, samtycke och NPFdiagnoser.\n\n•Du som besöker bastun omfamnar föreningens inkluderande inställning till alla människor. Vi förväntar oss att du är respektfull och hänsynstagande mot andra besökare och respekterar föreningens valda temabastu.
URL:https://nfeos.se/event/qts-bastu-pa-agesta-25/
END:VEVENT
BEGIN:VEVENT
DTSTART;TZID=Europe/Stockholm:20260225T160000
DTEND;TZID=Europe/Stockholm:20260225T200000
DTSTAMP:20260423T131917
CREATED:20251231T140603Z
LAST-MODIFIED:20251231T140603Z
UID:874-1772035200-1772049600@nfeos.se
SUMMARY:Bastu på Ågesta
DESCRIPTION:
URL:https://nfeos.se/event/bastu-pa-agesta-112/
END:VEVENT
BEGIN:VEVENT
DTSTART;TZID=Europe/Stockholm:20260228T130000
DTEND;TZID=Europe/Stockholm:20260228T170000
DTSTAMP:20260423T131917
CREATED:20251231T140834Z
LAST-MODIFIED:20251231T141354Z
UID:882-1772283600-1772298000@nfeos.se
SUMMARY:Bastu på Ågesta
DESCRIPTION:
URL:https://nfeos.se/event/bastu-pa-agesta-116/
END:VEVENT
BEGIN:VEVENT
DTSTART;TZID=Europe/Stockholm:20260301T200000
DTEND;TZID=Europe/Stockholm:20260301T210000
DTSTAMP:20260423T131917
CREATED:20251221T163410Z
LAST-MODIFIED:20251221T163410Z
UID:837-1772395200-1772398800@nfeos.se
SUMMARY:Bredängsbadet
DESCRIPTION:Välkomna att bada med oss \nTänk på att du måste ta med egen handduk/ badlakan. \nInsläpp 19.30 . 20.00 \nBassängen är öppen från kl. 20.00 – 21.00 \nVattengympa 20.15 – 20.45 \nBadet ska vara utrymt kl. 21.30
URL:https://nfeos.se/event/bredangsbadet-27/
END:VEVENT
BEGIN:VEVENT
DTSTART;TZID=Europe/Stockholm:20260302T190000
DTEND;TZID=Europe/Stockholm:20260302T210000
DTSTAMP:20260423T131917
CREATED:20260214T160551Z
LAST-MODIFIED:20260214T160551Z
UID:941-1772478000-1772485200@nfeos.se
SUMMARY:Medlemsbastu på Ågesta
DESCRIPTION:
URL:https://nfeos.se/event/medlemsbastu-pa-agesta-29/
END:VEVENT
BEGIN:VEVENT
DTSTART;TZID=Europe/Stockholm:20260303T180000
DTEND;TZID=Europe/Stockholm:20260303T210000
DTSTAMP:20260423T131917
CREATED:20260120T180558Z
LAST-MODIFIED:20260120T180558Z
UID:919-1772560800-1772571600@nfeos.se
SUMMARY:QTS bastu på Ågesta
DESCRIPTION:Queer Trans Sauna på Ågesta naturistbad! \n  \nVilka är välkomna i bastun under QTS?: \n\nQueers\, transpersoner och queera transpersoner trötta på textilbad.\nDu och den/dom QTs du bjuder med har en grundförståelse för begrepp som: queer\, trans\, naturist\, samtycke och NPFdiagnoser.\n\n•Du som besöker bastun omfamnar föreningens inkluderande inställning till alla människor. Vi förväntar oss att du är respektfull och hänsynstagande mot andra besökare och respekterar föreningens valda temabastu.
URL:https://nfeos.se/event/qts-bastu-pa-agesta-26/
END:VEVENT
BEGIN:VEVENT
DTSTART;TZID=Europe/Stockholm:20260304T160000
DTEND;TZID=Europe/Stockholm:20260304T200000
DTSTAMP:20260423T131917
CREATED:20260214T161038Z
LAST-MODIFIED:20260214T161038Z
UID:951-1772640000-1772654400@nfeos.se
SUMMARY:Bastu på Ågesta
DESCRIPTION:
URL:https://nfeos.se/event/bastu-pa-agesta-117/
END:VEVENT
BEGIN:VEVENT
DTSTART;TZID=Europe/Stockholm:20260307T130000
DTEND;TZID=Europe/Stockholm:20260307T170000
DTSTAMP:20260423T131917
CREATED:20260214T161251Z
LAST-MODIFIED:20260214T161251Z
UID:959-1772888400-1772902800@nfeos.se
SUMMARY:Bastu på Ågesta
DESCRIPTION:
URL:https://nfeos.se/event/bastu-pa-agesta-121/
END:VEVENT
BEGIN:VEVENT
DTSTART;TZID=Europe/Stockholm:20260308T100000
DTEND;TZID=Europe/Stockholm:20260308T130000
DTSTAMP:20260423T131917
CREATED:20260305T175202Z
LAST-MODIFIED:20260305T175202Z
UID:971-1772964000-1772974800@nfeos.se
SUMMARY:Medlemsaufguss på Internationella kvinnodagen
DESCRIPTION:Endast för medlemmar och deras gäster. Max en gäst per medlem\, i mån av plats. \n  \nPå Internationella kvinnodagen bjuder vi på bastu för alla som identifierar sig som kvinnor. \n  \nVi välkomnar er till en aufguss på Ågesta med väldoftande eteriska oljor och rikligt med vattenpåhällning. Personer som är känsliga för starka dofter eller ånga avråds från att delta. \n  \nFörsta sessionen börjar cirka 10.30\, eller när tillräckligt många har anlänt. Insläpp sker inte under pågående session. Musik kan spelas av aufgussmästarna under sessionerna\, och om inget annat anges föredrar vi tystnad under sessionerna. \nVi brukar informera om nästa session 5–10 minuter innan den börjar. Passa då på att se till att du har druckit tillräckligt med vatten och att du har kylt ner dig ordentligt innan du går in i bastun igen. \nVid många deltagare turas vi om att vara i bastun. Detta gäller även vid dåligt väder. Kom ihåg att ta med din handduk när du lämnar bastun efter en session. Du är inte garanterad en plats till nästa session. \n  \nVarmt välkomna! \n  \n/Aufguss teamet
URL:https://nfeos.se/event/medlemsaufguss-pa-internationella-kvinnodagen/
END:VEVENT
BEGIN:VEVENT
DTSTART;TZID=Europe/Stockholm:20260308T200000
DTEND;TZID=Europe/Stockholm:20260308T210000
DTSTAMP:20260423T131917
CREATED:20251221T163455Z
LAST-MODIFIED:20251221T163455Z
UID:839-1773000000-1773003600@nfeos.se
SUMMARY:Bredängsbadet
DESCRIPTION:Välkomna att bada med oss \nTänk på att du måste ta med egen handduk/ badlakan. \nInsläpp 19.30 . 20.00 \nBassängen är öppen från kl. 20.00 – 21.00 \nVattengympa 20.15 – 20.45 \nBadet ska vara utrymt kl. 21.30
URL:https://nfeos.se/event/bredangsbadet-28/
END:VEVENT
BEGIN:VEVENT
DTSTART;TZID=Europe/Stockholm:20260309T190000
DTEND;TZID=Europe/Stockholm:20260309T210000
DTSTAMP:20260423T131917
CREATED:20260214T160626Z
LAST-MODIFIED:20260214T160626Z
UID:943-1773082800-1773090000@nfeos.se
SUMMARY:Medlemsbastu på Ågesta
DESCRIPTION:
URL:https://nfeos.se/event/medlemsbastu-pa-agesta-30/
END:VEVENT
BEGIN:VEVENT
DTSTART;TZID=Europe/Stockholm:20260310T180000
DTEND;TZID=Europe/Stockholm:20260310T210000
DTSTAMP:20260423T131917
CREATED:20260120T180648Z
LAST-MODIFIED:20260120T180648Z
UID:921-1773165600-1773176400@nfeos.se
SUMMARY:QTS bastu på Ågesta
DESCRIPTION:Queer Trans Sauna på Ågesta naturistbad! \n  \nVilka är välkomna i bastun under QTS?: \n\nQueers\, transpersoner och queera transpersoner trötta på textilbad.\nDu och den/dom QTs du bjuder med har en grundförståelse för begrepp som: queer\, trans\, naturist\, samtycke och NPFdiagnoser.\n\n•Du som besöker bastun omfamnar föreningens inkluderande inställning till alla människor. Vi förväntar oss att du är respektfull och hänsynstagande mot andra besökare och respekterar föreningens valda temabastu.
URL:https://nfeos.se/event/qts-bastu-pa-agesta-27/
END:VEVENT
BEGIN:VEVENT
DTSTART;TZID=Europe/Stockholm:20260311T160000
DTEND;TZID=Europe/Stockholm:20260311T200000
DTSTAMP:20260423T131917
CREATED:20260214T161119Z
LAST-MODIFIED:20260214T161119Z
UID:953-1773244800-1773259200@nfeos.se
SUMMARY:Bastu på Ågesta
DESCRIPTION:
URL:https://nfeos.se/event/bastu-pa-agesta-118/
END:VEVENT
BEGIN:VEVENT
DTSTART;TZID=Europe/Stockholm:20260313T183000
DTEND;TZID=Europe/Stockholm:20260313T210000
DTSTAMP:20260423T131917
CREATED:20260120T180145Z
LAST-MODIFIED:20260120T180145Z
UID:917-1773426600-1773435600@nfeos.se
SUMMARY:Medlemsbastu på Ågesta
DESCRIPTION:
URL:https://nfeos.se/event/medlemsbastu-pa-agesta-25/
END:VEVENT
END:VCALENDAR