BEGIN:VCALENDAR
VERSION:2.0
PRODID:-//Naturistföreningen Eos - ECPv6.15.20//NONSGML v1.0//EN
CALSCALE:GREGORIAN
METHOD:PUBLISH
X-ORIGINAL-URL:https://nfeos.se
X-WR-CALDESC:Händelser för Naturistföreningen Eos
REFRESH-INTERVAL;VALUE=DURATION:PT1H
X-Robots-Tag:noindex
X-PUBLISHED-TTL:PT1H
BEGIN:VTIMEZONE
TZID:Europe/Stockholm
BEGIN:DAYLIGHT
TZOFFSETFROM:+0100
TZOFFSETTO:+0200
TZNAME:CEST
DTSTART:20240331T010000
END:DAYLIGHT
BEGIN:STANDARD
TZOFFSETFROM:+0200
TZOFFSETTO:+0100
TZNAME:CET
DTSTART:20241027T010000
END:STANDARD
BEGIN:DAYLIGHT
TZOFFSETFROM:+0100
TZOFFSETTO:+0200
TZNAME:CEST
DTSTART:20250330T010000
END:DAYLIGHT
BEGIN:STANDARD
TZOFFSETFROM:+0200
TZOFFSETTO:+0100
TZNAME:CET
DTSTART:20251026T010000
END:STANDARD
BEGIN:DAYLIGHT
TZOFFSETFROM:+0100
TZOFFSETTO:+0200
TZNAME:CEST
DTSTART:20260329T010000
END:DAYLIGHT
BEGIN:STANDARD
TZOFFSETFROM:+0200
TZOFFSETTO:+0100
TZNAME:CET
DTSTART:20261025T010000
END:STANDARD
END:VTIMEZONE
BEGIN:VEVENT
DTSTART;TZID=Europe/Stockholm:20250919T180000
DTEND;TZID=Europe/Stockholm:20250919T210000
DTSTAMP:20260423T174341
CREATED:20250907T154534Z
LAST-MODIFIED:20250907T154534Z
UID:662-1758304800-1758315600@nfeos.se
SUMMARY:Medlemsbastu på Ågesta - aufguss
DESCRIPTION:Endast för medlemmar och deras gäster. Max En gäst per medlem\, i mån av plats! \n  \nVi välkomnar Er till en aufguss-kväll på Ågesta med väldoftande eteriska oljor och rikligt med vattenpåhällning. Personer som är känsliga för starka dofter eller ånga avråds från att delta. \n  \nFörsta sessionen börjar cirka 18.30\, eller när tillräckligt många har anlänt. Insläpp sker inte under pågående session. Musik kan spelas av aufguss-mästarna under sessionerna\, och om inget annat anges så föredrar vi tystnad under sessionerna. \n  \nVi brukar informera om nästa session en 5-10 minuter innan den börjar\, då är det ett bra tillfälle att se till att Du druckit tillräckigt mycket vatten och att Du är tillräckligt nedkyld innan du går in i bastun igen. \nVid många deltagare turas vi om att vara i bastun\, detta gäller även vid dåligt väder så kom ihåg\, att ta med dig Din handduk när du lämnar bastun efter en session och att Du är inte garanterad en plats till nästa session. \n  \nVälkomna! \n  \n/ Aufguss-mästarna på Ågesta\, Anton och Cecilia
URL:https://nfeos.se/event/medlemsbastu-pa-agesta-aufguss-2/
END:VEVENT
END:VCALENDAR