BEGIN:VCALENDAR
VERSION:2.0
PRODID:-//Naturistföreningen Eos - ECPv6.15.20//NONSGML v1.0//EN
CALSCALE:GREGORIAN
METHOD:PUBLISH
X-WR-CALNAME:Naturistföreningen Eos
X-ORIGINAL-URL:https://nfeos.se
X-WR-CALDESC:Händelser för Naturistföreningen Eos
REFRESH-INTERVAL;VALUE=DURATION:PT1H
X-Robots-Tag:noindex
X-PUBLISHED-TTL:PT1H
BEGIN:VTIMEZONE
TZID:Europe/Stockholm
BEGIN:DAYLIGHT
TZOFFSETFROM:+0100
TZOFFSETTO:+0200
TZNAME:CEST
DTSTART:20240331T010000
END:DAYLIGHT
BEGIN:STANDARD
TZOFFSETFROM:+0200
TZOFFSETTO:+0100
TZNAME:CET
DTSTART:20241027T010000
END:STANDARD
BEGIN:DAYLIGHT
TZOFFSETFROM:+0100
TZOFFSETTO:+0200
TZNAME:CEST
DTSTART:20250330T010000
END:DAYLIGHT
BEGIN:STANDARD
TZOFFSETFROM:+0200
TZOFFSETTO:+0100
TZNAME:CET
DTSTART:20251026T010000
END:STANDARD
BEGIN:DAYLIGHT
TZOFFSETFROM:+0100
TZOFFSETTO:+0200
TZNAME:CEST
DTSTART:20260329T010000
END:DAYLIGHT
BEGIN:STANDARD
TZOFFSETFROM:+0200
TZOFFSETTO:+0100
TZNAME:CET
DTSTART:20261025T010000
END:STANDARD
END:VTIMEZONE
BEGIN:VEVENT
DTSTART;TZID=Europe/Stockholm:20250729T200000
DTEND;TZID=Europe/Stockholm:20250729T220000
DTSTAMP:20260423T133220
CREATED:20250717T081330Z
LAST-MODIFIED:20250717T081330Z
UID:473-1753819200-1753826400@nfeos.se
SUMMARY:Queer Trans Sauna på Ågesta naturistbad
DESCRIPTION:Queer Trans Sauna på Ågesta naturistbad! \n  \nVilka är välkomna i bastun under QTS?: \n\nQueers\, transpersoner och queera transpersoner trötta på textilbad.\nDu och den/dom QTs du bjuder med har en grundförståelse för begrepp som: queer\, trans\, naturist\, samtycke och NPFdiagnoser.\n\n•Du som besöker bastun omfamnar föreningens inkluderande inställning till alla människor. Vi förväntar oss att du är respektfull och hänsynstagande mot andra besökare och respekterar föreningens valda temabastu.
URL:https://nfeos.se/event/queer-trans-sauna-pa-agesta-naturistbad/
END:VEVENT
END:VCALENDAR